BEGIN:VCALENDAR
VERSION:2.0
PRODID:-//Tidewater BMW Car Club - ECPv6.15.20//NONSGML v1.0//EN
CALSCALE:GREGORIAN
METHOD:PUBLISH
X-WR-CALNAME:Tidewater BMW Car Club
X-ORIGINAL-URL:https://www.twbmwcca.org
X-WR-CALDESC:Events for Tidewater BMW Car Club
REFRESH-INTERVAL;VALUE=DURATION:PT1H
X-Robots-Tag:noindex
X-PUBLISHED-TTL:PT1H
BEGIN:VTIMEZONE
TZID:America/New_York
BEGIN:DAYLIGHT
TZOFFSETFROM:-0500
TZOFFSETTO:-0400
TZNAME:EDT
DTSTART:20230312T070000
END:DAYLIGHT
BEGIN:STANDARD
TZOFFSETFROM:-0400
TZOFFSETTO:-0500
TZNAME:EST
DTSTART:20231105T060000
END:STANDARD
BEGIN:DAYLIGHT
TZOFFSETFROM:-0500
TZOFFSETTO:-0400
TZNAME:EDT
DTSTART:20240310T070000
END:DAYLIGHT
BEGIN:STANDARD
TZOFFSETFROM:-0400
TZOFFSETTO:-0500
TZNAME:EST
DTSTART:20241103T060000
END:STANDARD
BEGIN:DAYLIGHT
TZOFFSETFROM:-0500
TZOFFSETTO:-0400
TZNAME:EDT
DTSTART:20250309T070000
END:DAYLIGHT
BEGIN:STANDARD
TZOFFSETFROM:-0400
TZOFFSETTO:-0500
TZNAME:EST
DTSTART:20251102T060000
END:STANDARD
BEGIN:DAYLIGHT
TZOFFSETFROM:-0500
TZOFFSETTO:-0400
TZNAME:EDT
DTSTART:20260308T070000
END:DAYLIGHT
BEGIN:STANDARD
TZOFFSETFROM:-0400
TZOFFSETTO:-0500
TZNAME:EST
DTSTART:20261101T060000
END:STANDARD
END:VTIMEZONE
BEGIN:VTIMEZONE
TZID:UTC
BEGIN:STANDARD
TZOFFSETFROM:+0000
TZOFFSETTO:+0000
TZNAME:UTC
DTSTART:20190101T000000
END:STANDARD
END:VTIMEZONE
BEGIN:VEVENT
DTSTART;VALUE=DATE:20251010
DTEND;VALUE=DATE:20251014
DTSTAMP:20260423T150549
CREATED:20250627T193742Z
LAST-MODIFIED:20250627T193854Z
UID:250905-1760054400-1760399999@www.twbmwcca.org
SUMMARY:Dragon Drive 2025
DESCRIPTION:We combine portions of the Back\, Claw and Head of the Dragon into our own Dragon Drive.  We’ll still be driving through picturesque countryside on some challenging roads to exercise our Ultimate Driving Machines.  The drive will put us smack in the middle of the Appalachian Mountains in Virginia & West Virginia.\nOn Columbus Day weekend\, we will head west to tackle this and other BMW worthy routes.  Highlights of the driving tour will include:\n\n\nCaravan from Hampton Roads to Wytheville\, Friday\, October 10; we’ll meet at the Shell/Pilot Gas Station\, 2400 Holland Rd\, Suffolk\, VA 23434\,  at 9:45\, departing at 10:00 am\n\n\n‘Dragon Drive’ ( Back of the Dragon ) ( Head of the Dragon) ( (https://www.www.onlyinyourstate.com/virginia/back-of-the-dragon-tazewell-driving-va/ )\, October  11-12.  The combination drive will provide the chance to challenge our ultimate driving machines and experience the beautiful scenery.\n\n\nCaravan back to Hampton Roads\, morning Monday\, October 13\, departing at 9:00 am with a lunch stop along the way.\n\n\nSuggested Accommodation arrangements:\nHotel:  Tru by Hilton\n245 Boyd Ave Wytheville\, Virginia 24382\n (276) 335-2290\nArrival Date: 10/10/25\nDeparture Date: 10/13/25\nPlease use one of the methods below to make your reservations:\n\n\nCall the Hotel directly\n\n\nAnother way your guests can book their reservations is by calling our Hilton Reservations toll-free number at 1-800-HILTONS.\n\n\nIf you are a Hilton Honors member\, either use the Hilton Honors App or do so on-line\n\n\nPlan now to join us Oct 10-13 on the ‘Dragon Drive’ \n\nFor questions\, please contact Nate Collins at Dragon@twbmwcca.org
URL:https://www.twbmwcca.org/upcoming/dragon-drive-2025/
LOCATION:Rondezvous for Dragon Drive\, 2400 Holland Rd\, Suffolk\, VA\, 23434\, United States
CATEGORIES:Drive n Dine,Social,Weekend Motor Trip
ATTACH;FMTTYPE=image/jpeg:https://www.twbmwcca.org/wp-content/uploads/2019/09/DragonHeadLogo_edited.jpg
END:VEVENT
BEGIN:VEVENT
DTSTART;VALUE=DATE:20250823
DTEND;VALUE=DATE:20250824
DTSTAMP:20260423T150549
CREATED:20250627T192407Z
LAST-MODIFIED:20250627T192407Z
UID:250897-1755907200-1755993599@www.twbmwcca.org
SUMMARY:Street Survival 2025  Aug 23rd
DESCRIPTION:SAVE THE DATE\n Aug. 23rd  2025\n\nThe Tidewater Chapter is holding its 2025 Street Survival driving event for our area teenage drivers on Aug 23rd.\nThe primary emphasis of Street Survival® is a “hands-on” driving experience in real-world situations! We use your own car to teach you about its handling limits and how you can control them. The students will become more observant of the traffic situation they find themselves in. They will learn to look far enough ahead to anticipate unwise actions of other drivers. As the students master the application of physics to drive their cars\, they will make fewer unwise driving actions themselves. They will understand why they should always wear their own seatbelts\, and why they should insist that their passengers wear seatbelts\, too.\nIt’s about more than driving – it’s about LIVING!\n\nStudents\nRegister Students\nVolunteers\nhttps://msreg.com/23AugStreetSurvival\nGeneral Information about the Street Survival program at https://bmwccafoundation.org/streetsurvival/
URL:https://www.twbmwcca.org/upcoming/street-survival-2025/
LOCATION:NCCAR\, Garysburg\, NC\, 310 Technology Drive\, Garysburg\, NC\, United States
CATEGORIES:Car Control,Weekend Motor Trip
ATTACH;FMTTYPE=image/png:https://www.twbmwcca.org/wp-content/uploads/2019/11/VolunteerInstructions.png
ORGANIZER;CN="streetsurvival@twbmwcca.org":MAILTO:streetsurvival@twbmwcca.org
END:VEVENT
BEGIN:VEVENT
DTSTART;VALUE=DATE:20241011
DTEND;VALUE=DATE:20241015
DTSTAMP:20260423T150549
CREATED:20240218T214109Z
LAST-MODIFIED:20240720T175245Z
UID:250316-1728604800-1728950399@www.twbmwcca.org
SUMMARY:Dragon Drive 2024
DESCRIPTION:We combine portions of the Back\, Claw and Head of the Dragon into our own Dragon Drive.  We’ll still be driving through picturesque countryside on some challenging roads to exercise our Ultimate Driving Machines.  The drive will put us smack in the middle of the Appalachian Mountains in Virginia & West Virginia.\nOn Columbus Day weekend\, we will head west to tackle this and other BMW worthy routes.  Highlights of the driving tour will include:\n\n\nCaravan from Hampton Roads to Wytheville\, Friday\, October 11; we’ll meet at the Shell/Pilot Gas Station\, 2400 Holland Rd\, Suffolk\, VA 23434\,  at 9:45\, departing at 10:00 am\n\n\n‘Dragon Drive’ ( Back of the Dragon) ( Claw of the Dragon  (https://www.www.onlyinyourstate.com/virginia/back-of-the-dragon-tazewell-driving-va/ )\, October  12 & 13.  The combination drive will provide the chance to challenge our ultimate driving machines and experience the beautiful scenery.\n\n\nCaravan back to Hampton Roads\, morning Monday\, October 14\, departing at 9:00 am with a lunch stop along the way.\n\n\nAccommodation arrangements:\n\nHotel:  Tru by Hilton\n245 Boyd Ave Wytheville\, Virginia 24382\n (276) 335-2290\nGroup Name: Annual Dragon Drive Fest\nArrival Date: 10/11/24\nDeparture Date: 10/14/24\nCut-off Date: 9/11/24\n\nPlease use one of the methods below to make your reservations:\n1)  Booking Link: https://www.hilton.com/en/book/reservation/deeplink/?ctyhocn=BKWWVRU&groupCode=901&arrivaldate=2024-10-11&departuredate=2024-10-14&cid=OM\,WW\,HILTONLINK\,EN\,DirectLink&fromId=HILTONLINKDIRECT\n Please note\, the entire URL must be copied and pasted for it to work properly.\n2)  Another way your guests can book their reservations is by calling our Hilton Reservations toll-free number at 1-800-HILTONS\, have your guests mention the Annual Dragon Drive Fest Group Block or the unique code 901 to receive your group rate.\nPlan now to join us Oct 11-14 on the ‘Dragon Drive’\nFor questions\, please contact Nate Collins at Dragon@twbmwcca.org
URL:https://www.twbmwcca.org/upcoming/dragondrive2024/
LOCATION:Rondezvous for Dragon Drive\, 2400 Holland Rd\, Suffolk\, VA\, 23434\, United States
CATEGORIES:Drive n Dine,Social,Weekend Motor Trip
ATTACH;FMTTYPE=image/jpeg:https://www.twbmwcca.org/wp-content/uploads/2019/09/DragonHeadLogo_edited.jpg
END:VEVENT
BEGIN:VEVENT
DTSTART;VALUE=DATE:20240907
DTEND;VALUE=DATE:20240909
DTSTAMP:20260423T150549
CREATED:20240801T204726Z
LAST-MODIFIED:20240901T171939Z
UID:250453-1725667200-1725839999@www.twbmwcca.org
SUMMARY:Street Survival 2024  Sept 7th
DESCRIPTION:SAVE THE DATE SEPT 7  2024\n\nThe Tidewater Chapter is holding its 2024 Street Survival driving event for our area teenage drivers on Sept 7th  ( the second day\, the 8th\, has been cancelled due to low participation levels)\nThe primary emphasis of Street Survival® is a “hands-on” driving experience in real-world situations! We use your own car to teach you about its handling limits and how you can control them. The students will become more observant of the traffic situation they find themselves in. They will learn to look far enough ahead to anticipate unwise actions of other drivers. As the students master the application of physics to drive their cars\, they will make fewer unwise driving actions themselves. They will understand why they should always wear their own seatbelts\, and why they should insist that their passengers wear seatbelts\, too.\nIt’s about more than driving – it’s about LIVING!\n\n\n\nStudents\n\n\n7 Sep:  https://tinyurl.com/Sept-7-Students\n\n\n\n\n\n\n\nVolunteers\n\n\n7 Sep:  http://msreg.com/2024Day1StreetSurvival\n\n\n\n\n\n\n\nGeneral Information about the Street Survival program at https://bmwccafoundation.org/streetsurvival/
URL:https://www.twbmwcca.org/upcoming/street-survival-2024/
LOCATION:NCCAR\, Garysburg\, NC\, 310 Technology Drive\, Garysburg\, NC\, United States
CATEGORIES:Car Control,Weekend Motor Trip
ATTACH;FMTTYPE=image/png:https://www.twbmwcca.org/wp-content/uploads/2019/11/VolunteerInstructions.png
ORGANIZER;CN="streetsurvival@twbmwcca.org":MAILTO:streetsurvival@twbmwcca.org
END:VEVENT
BEGIN:VEVENT
DTSTART;VALUE=DATE:20230826
DTEND;VALUE=DATE:20230828
DTSTAMP:20260423T150549
CREATED:20200120T030109Z
LAST-MODIFIED:20230210T155442Z
UID:248413-1693008000-1693180799@www.twbmwcca.org
SUMMARY:Street Survival 2023 #1 & #2
DESCRIPTION:The Tidewater Chapter in concert with Tire Rack is holding its 2023 Street Survival driving event for our area teenage drivers.\nThe primary emphasis of the Tire Rack Street Survival® is a “hands-on” driving experience in real-world situations! We use your own car to teach you about its handling limits and how you can control them. The students will become more observant of the traffic situation they find themselves in. They will learn to look far enough ahead to anticipate unwise actions of other drivers. As the students master the application of physics to drive their cars\, they will make fewer unwise driving actions themselves. They will understand why they should always wear their own seatbelts\, and why they should insist that their passengers wear seatbelts\, too.\nIt’s about more than driving – it’s about LIVING!\nCheck out the info on https://streetsurvival.org/schools/parents/\nThis year we will running 2 days of Street survival; here are the links to MotorSportReg to register:\n\nDay 1\, Saturday\, August 26\n\nStudent Registration:  Register Students:\nVolunteers:  Volunteer Registration Day 1\n\n\n\n\nDay 2\, Sunday\, August 27\n\nStudent Registration: Register Students\nVolunteers:  Volunteer Registration Day 2
URL:https://www.twbmwcca.org/upcoming/street-survival2023/
LOCATION:NCCAR\, Garysburg\, NC\, 310 Technology Drive\, Garysburg\, NC\, United States
CATEGORIES:Car Control,Weekend Motor Trip
ATTACH;FMTTYPE=image/jpeg:https://www.twbmwcca.org/wp-content/uploads/2019/09/streetsurvival4.jpg
ORGANIZER;CN="streetsurvival@twbmwcca.org":MAILTO:streetsurvival@twbmwcca.org
END:VEVENT
BEGIN:VEVENT
DTSTART;VALUE=DATE:20221007
DTEND;VALUE=DATE:20221011
DTSTAMP:20260423T150549
CREATED:20200120T030219Z
LAST-MODIFIED:20220929T145820Z
UID:248805-1665100800-1665446399@www.twbmwcca.org
SUMMARY:Dragon Drive 2022
DESCRIPTION:Drive through picturesque countryside on some challenging roads to exercise our Ultimate Driving Machines.  The drive will put us smack in the middle of the Appalachian Mountains in Virginia & West Virginia. This year we’ll combine portions of the Back\, Head and Claw of the Dragon into our own Dragon Drive. \n\nCaravan from Hampton Roads to Wytheville\, Friday\, October 7; we’ll meet at the Shell/Pilot Gas Station\, 2400 Holland Rd\, Suffolk\, VA 23434\,  at 9:45\, departing at 10 am.\n‘Dragon Drive’ (www.visitvirginiamountains.com/trails.html)\, October  8 & 9\nCaravan back to Hampton Roads\, morning Monday\, October 10\nAccommodations will be at the Tru by Hilton\, 245 Boyd Ave\, Wytheville\, VA 24382 Phone: (276) 335-2290). We have made arrangements for a block of rooms; room with a single king will be $119 per night plus taxes\, while a room with two queen beds will be $124 per night plus taxes.  Simply copy and paste the URL below into your browser to access the exclusive rates available for this group:Booking Link: https://www.hilton.com/en/book/reservation/deeplink/?ctyhocn=BKWWVRU&groupCode=BMW&arrivaldate=2022-10-07&departuredate=2022-10-10&cid=OM\,WW\,HILTONLINK\,EN\,DirectLink&fromId=HILTONLINKDIRECTHotel: Tru by Hilton WythevilleGroup Name: BMW Car Club of America Tidewater Chapter Group BlockArrival Date: 10/7/22Departure Date: 10/9/22Cut-off Date: 9/29/22\nPlease note\, the entire URL must be copied and pasted for it to work properly. \nAnother way you can book their reservations is by calling our Hilton Reservations toll-free number at 1-800-HILTONS\, mention the BMW Car Club of America Tidewater Chapter Group Block or the unique code BMW to receive your group rate. \nPlease sign up quickly as rooms are limited.\n\nPlan now to join us Oct 7-10 on the ‘Dragon Drive’ \nFor questions\, please contact Shawn Halsey at President@twbmwcca.org \nSign Up Now \n  \nCheck out video from 2020 drive \n 
URL:https://www.twbmwcca.org/upcoming/dragon-drive2021-2/
LOCATION:Rondezvous for Dragon Drive\, 2400 Holland Rd\, Suffolk\, VA\, 23434\, United States
CATEGORIES:Weekend Motor Trip
ATTACH;FMTTYPE=image/jpeg:https://www.twbmwcca.org/wp-content/uploads/2020/01/arialdragonrd.jpg
END:VEVENT
BEGIN:VEVENT
DTSTART;VALUE=DATE:20211009
DTEND;VALUE=DATE:20211012
DTSTAMP:20260423T150549
CREATED:20200120T030219Z
LAST-MODIFIED:20210920T214125Z
UID:240791-1633737600-1633996799@www.twbmwcca.org
SUMMARY:Dragon Drive
DESCRIPTION:This year we’ll combine portions of the Back\, Tail and Claw of the Dragon into our own Dragon Drive.  We’ll still be driving through picturesque countryside on some challenging roads to exercise our Ultimate Driving Machines.  The drive will put us smack in the middle of the Appalachian Mountains in Virginia & West Virginia. \nOn Columbus Day weekend\, we will head west to tackle this and other BMW worthy routes.  Highlights of the driving tour will include: \n\nCaravan from Hampton Roads to Wytheville\, Friday\, October 8; we’ll meet at the Shell Gas Station\, 4717 W Military Hwy\, Chesapeake\, VA 23321 at Noon\, departing at 12:15 pm\n‘Dragon Drive’ (www.visitvirginiamountains.com/trails.html)\, October  9 & 10\n\nCheck out video from 2020 drive \n\nCaravan back to Hampton Roads\, Monday\, October 11\nAccommodations details on the Motorsport.org reservation page\n\nPlan now to join us Oct 8-11 on the ‘Dragon Drive’: \nReserve Your Adventure \nContact: Shawn Halsey at President@tiwrbmwcca.org
URL:https://www.twbmwcca.org/upcoming/dragon-drive2021/
LOCATION:Rondezvous for Dragon Drive\, 2400 Holland Rd\, Suffolk\, VA\, 23434\, United States
CATEGORIES:Weekend Motor Trip
ATTACH;FMTTYPE=image/jpeg:https://www.twbmwcca.org/wp-content/uploads/2020/01/arialdragonrd.jpg
END:VEVENT
BEGIN:VEVENT
DTSTART;VALUE=DATE:20201009
DTEND;VALUE=DATE:20201013
DTSTAMP:20260423T150549
CREATED:20200120T030219Z
LAST-MODIFIED:20200907T050437Z
UID:28829-1602201600-1602547199@www.twbmwcca.org
SUMMARY:Dragon Drive
DESCRIPTION:This year we’ll combine portions of the Back\, Tail and Claw of the Dragon into our own Dragon Drive.  We’ll still be driving through picturesque countryside on some challenging roads to exercise our Ultimate Driving Machines.  The drive will put us smack in the middle of the Appalachian Mountains in Virginia & West Virginia.  We may also venture out to The Breaks\, an interstate park\, located on the Virginia\, West Virginia & Kentucky tri-border and get a terrific view of the “Grand Canyon of the East.” On Columbus Day weekend\, we will head west to tackle this and other BMW worthy routes.  Highlights of the driving tour will include: \n\nCaravan from Hampton Roads to Wytheville\, Friday\, October 9; we’ll meet at the Shell Gas Station\, 4717 W Military Hwy\, Chesapeake\, VA 23321 at Noon\, departing at 12:15 pm\n‘Dragon Drive’ (www.visitvirginiamountains.com/trails.html)\, October  10 & 11\nCaravan back to Hampton Roads\, Monday\, October 12\nAccommodations at the Tru by Hilton\, 245 Boyd Ave\, Wytheville\, VA 24382  Phone: (276) 335-2290. Please contact  the  hotel directly  and  use Tidewater BMW Car Club for   your reservation: $85 for a king and $95 for a double queen room. PLEASE DO SO AT YOUR EARLIEST CONVENIENCE.    \n\nPlan now to join us Oct 9-12 on the ‘Dragon Drive’:  RSVP NOW For questions\, please contact Zach Talley at Events@twbmwcca.org or Shawn Halsey at President@tiwrbmwcca.org
URL:https://www.twbmwcca.org/upcoming/dragon-drive/
LOCATION:Rondezvous for Dragon Drive\, 2400 Holland Rd\, Suffolk\, VA\, 23434\, United States
CATEGORIES:Weekend Motor Trip
ATTACH;FMTTYPE=image/jpeg:https://www.twbmwcca.org/wp-content/uploads/2020/01/arialdragonrd.jpg
END:VEVENT
END:VCALENDAR