BEGIN:VCALENDAR
VERSION:2.0
PRODID:-//Tidewater BMW Car Club - ECPv6.15.20//NONSGML v1.0//EN
CALSCALE:GREGORIAN
METHOD:PUBLISH
X-ORIGINAL-URL:https://www.twbmwcca.org
X-WR-CALDESC:Events for Tidewater BMW Car Club
REFRESH-INTERVAL;VALUE=DURATION:PT1H
X-Robots-Tag:noindex
X-PUBLISHED-TTL:PT1H
BEGIN:VTIMEZONE
TZID:UTC
BEGIN:STANDARD
TZOFFSETFROM:+0000
TZOFFSETTO:+0000
TZNAME:UTC
DTSTART:20210101T000000
END:STANDARD
END:VTIMEZONE
BEGIN:VEVENT
DTSTART;TZID=UTC:20220312T160000
DTEND;TZID=UTC:20220312T200000
DTSTAMP:20260423T235811
CREATED:20211220T030948Z
LAST-MODIFIED:20220224T230319Z
UID:241497-1647100800-1647115200@www.twbmwcca.org
SUMMARY:Detailing Tech Session
DESCRIPTION:  \n\n\n\n\n\n \n Join us on Saturday\, March 12th @ The Detail Garage in Virginia Beach for our Detail Tech Session!\nThe Detail Garage will be hosting a hands-on experience that is designed to educate students on the proper use of both polishers and detailing products. It is the perfect workshop for the ‘Do-It-Yourself’ enthusiast looking to take their skills to the next level. \nLocation: The Detail Garage \n4239 Holland Rd #772\, Virginia Beach\, VA 23452 \nTimberlake Shopping Center  \nTime: 4:00-8:00 \nCost: Discounted to $50 per person ($200 per person regular price) \nPayment will be collected in-person on 3/12 \nDetailing Tech Session: Intro to Buffing and Polishing\nWHAT YOU’LL LEARN\n\n\n\n\n\n\n\n\n\n\n\nHands-on instruction with the newest polishing machines (TORQ\, Flex\, Rupes\, Porter Cable)\nHow to use both the rotary and dual-action polishers\nHand polish vs. machine polish\nChoosing the proper chemicals\nChoosing the proper pads\nDeciding between the different machines\nHow to evaluate and remove paint damage and paint defects\nThe difference between wet and dry sanding\nAutomotive paint technology step-by-step\nProper preparation to avoid damage/ compound overspray\nProper washing and drying techniques\nSpot polishing to remove minor blemishes
URL:https://www.twbmwcca.org/upcoming/tech-session/
LOCATION:The Detail Garage\, 4239 Holland Rd\, Virginia Beach\, VA\, 23452\, United States
CATEGORIES:Tech Session
ATTACH;FMTTYPE=image/jpeg:https://www.twbmwcca.org/wp-content/uploads/2021/12/techsessionimage.jpg
END:VEVENT
END:VCALENDAR