BEGIN:VCALENDAR
VERSION:2.0
PRODID:-//Tidewater BMW Car Club - ECPv6.15.20//NONSGML v1.0//EN
CALSCALE:GREGORIAN
METHOD:PUBLISH
X-WR-CALNAME:Tidewater BMW Car Club
X-ORIGINAL-URL:https://www.twbmwcca.org
X-WR-CALDESC:Events for Tidewater BMW Car Club
REFRESH-INTERVAL;VALUE=DURATION:PT1H
X-Robots-Tag:noindex
X-PUBLISHED-TTL:PT1H
BEGIN:VTIMEZONE
TZID:UTC
BEGIN:STANDARD
TZOFFSETFROM:+0000
TZOFFSETTO:+0000
TZNAME:UTC
DTSTART:20190101T000000
END:STANDARD
END:VTIMEZONE
BEGIN:VEVENT
DTSTART;TZID=UTC:20200418T090000
DTEND;TZID=UTC:20200418T103000
DTSTAMP:20260423T210247
CREATED:20191007T003152Z
LAST-MODIFIED:20200323T232840Z
UID:28885-1587200400-1587205800@www.twbmwcca.org
SUMMARY:CANCELLED - Bimmer B'fast- Chesapeake
DESCRIPTION:Sat\, April 18th\, 2020 – 9am – 10:30am Where: Baker’s Crust\, Landsdown Center\, Virginia Beach\, VA \nCome show your car and talk car-talk with Bimmer friends old and new\, all with great breakfast food at Baker’s Crust in Landsdown Commons. \nWake up with the Club to some hot breakfast and lots of BMW talk. \n \nRSVP to Motorsportreg.com \nQuestions? Contact Shawn Halsey at president@tidewaterbmwcca.org \n			\n			\n				\n				\n				\n				\n				\n				\n				\n				\n				\n				1971 – 2021NOMINATIONS OPEN! PARTICIPATE IN YOUR CHAPTER! VOLUNTEER!			 \n\n		Current Board Members			President: Vacant\nVice-President: Will Jeter\nSecretary: Al Resnick\nTreasurer: Andy McCulley(temp)\nEvents: James Loriol(temp)\nEditor: Vacant\nMerchandise: Melissa Peppenhorst\nMembership: Amy Finney\nWebmeister: Judy Semo \n\n		BMW Foundation Newsletter-Issue #21			Foundation Forum #21
URL:https://www.twbmwcca.org/upcoming/bimmer-bfast-chesapeakeapr/
LOCATION:Baker’s Crust Landsdown Commons\, 3388 Princess Anne Rd\, Virginia Beach\, VA\, 23456\, United States
CATEGORIES:Social
ATTACH;FMTTYPE=image/png:https://www.twbmwcca.org/wp-content/uploads/2019/12/PancakeStack-e1578773004697.png
END:VEVENT
BEGIN:VEVENT
DTSTART;TZID=UTC:20200328T090000
DTEND;TZID=UTC:20200328T103000
DTSTAMP:20260423T210248
CREATED:20191201T012900Z
LAST-MODIFIED:20200323T233606Z
UID:28762-1585386000-1585391400@www.twbmwcca.org
SUMMARY:CANCELLED - Peninsula B'fast
DESCRIPTION:Sat\, Mar. 28th 9am – 10:30am\nScheduled Peninsula BMW Breakfast on the 4th Saturday of every 3rd month. We’ll be at Baker’s Crust\, 5234 Monticello Ave #115\, Williamsburg\, VA 23188. Breakfast starts @ 09:00 am on Dec 28th with Car talk during and afterwards with Club members. \nRSVP: https://www.motorsportreg.com/events/tidewater-bmw-peninsula-breakfast-bakers-crust-cca-970425
URL:https://www.twbmwcca.org/upcoming/peninsula-bfast-mar/
LOCATION:Bakers Crust\, 5234 Monticello Ave #115\, Williamsburg\, VA\, 23188\, United States
CATEGORIES:Social
ATTACH;FMTTYPE=image/jpeg:https://www.twbmwcca.org/wp-content/uploads/2019/11/WilliamsburgwafflesCoffee.jpg
END:VEVENT
BEGIN:VEVENT
DTSTART;TZID=UTC:20200321T090000
DTEND;TZID=UTC:20200321T103000
DTSTAMP:20260423T210248
CREATED:20191007T003152Z
LAST-MODIFIED:20200320T195858Z
UID:28759-1584781200-1584786600@www.twbmwcca.org
SUMMARY:Bimmer B'fast- Chesapeake -Cancelled
DESCRIPTION:Sat\, Mar 21st\, 2020 – 9am – 10:30am\nWhere: Metro Diner.\, 1107 Volvo Pkwy\, Chesapeake\, VA 23320 \nDescription: Come show your car and talk car-talk with Bimmer friends old and new\, all with great breakfast food at Metro Diner. \nWake up with the Club to some hot breakfast and lots of BMW talk. \n \nRSVP to Motorsportreg.com \nQuestions? Contact Shawn Halsey at president@tidewaterbmwcca.org
URL:https://www.twbmwcca.org/upcoming/bimmer-bfast-chesapeakemar/
LOCATION:Metro Diner\, 1124 Volvo Pkwy\, Chesapeake\, VA\, 23320\, United States
CATEGORIES:Social
ATTACH;FMTTYPE=image/png:https://www.twbmwcca.org/wp-content/uploads/2019/12/PancakeStack-e1578773004697.png
END:VEVENT
BEGIN:VEVENT
DTSTART;TZID=UTC:20200215T090000
DTEND;TZID=UTC:20200215T103000
DTSTAMP:20260423T210248
CREATED:20191007T003152Z
LAST-MODIFIED:20200202T024851Z
UID:28722-1581757200-1581762600@www.twbmwcca.org
SUMMARY:Bimmer B'fast- Chesapeake
DESCRIPTION:Sat\, Feb. 15th\, 2020 – 9am – 10:30am\nWhere: Metro Diner.\, 1107 Volvo Pkwy\, Chesapeake\, VA 23320 \nCome show your car and talk car-talk with Bimmer friends old and new\, all with great breakfast food at Metro Diner. \nWake up with the Club to some hot breakfast and lots of BMW talk. \nRSVP to Motorsportreg.com \nQuestions? Contact Shawn Halsey at president@tidewaterbmwcca.org
URL:https://www.twbmwcca.org/upcoming/bimmer-bfast-chesapeakefeb/
LOCATION:Metro Diner\, 1124 Volvo Pkwy\, Chesapeake\, VA\, 23320\, United States
CATEGORIES:Social
ATTACH;FMTTYPE=image/png:https://www.twbmwcca.org/wp-content/uploads/2019/12/PancakeStack-e1578773004697.png
END:VEVENT
BEGIN:VEVENT
DTSTART;TZID=UTC:20200125T063000
DTEND;TZID=UTC:20200125T093000
DTSTAMP:20260423T210248
CREATED:20191020T013248Z
LAST-MODIFIED:20200119T010750Z
UID:28290-1579933800-1579944600@www.twbmwcca.org
SUMMARY:Annual Banquet-2020
DESCRIPTION:On Saturday\, January 25\, 2020\, Our 2020 Annual Chapter Banquet will be held at the Hampton Marina Hotel\, 700 Settlers Landing Road\, Hampton\, VA 23669\,  \n \nWe are initiating a free/swap table this year. If you have any BMW-related items you no longer have a use for\, and are/is smaller than a transmission\, please bring it along to share/give away/get rid of. Dress is business casual. \nYou must RSVP and pre-pay at Motorsportreg.com \nA cash bar social hour with an International & Domestic Cheese Board begins at 6:30PM\, followed by the dinner buffet at 7:30PM. \nBuffet Menu: \nEntrées: Dijon & Rosemary Crusted Sirloin\, Broiled Salmon with Lemon Garlic Cream Sauce\, Southern Fried Chicken\nSides: Whipped New Potatoes\, Green Beans with Sun Dried Tomato Butter\nCaesar Salad with Parmesan Romaine & Caesar dressing\, Red Bliss Potato Salad\nDesserts: Chef’s Selection of Layer Cakes & Assorted Pies \nAfter a short business meeting\, which will include the election of 2020 officers\, we will raffle off donated door prizes provided by advertisers\, local merchants\, shops and dealers. \nRooms \nWe have negotiated a special room rate of $119.00 for anyone wanting to stay overnight. Just make sure you tell the hotel you are with the “BMW Car Club” to get the rate. To make a reservation call the hotel at 757-727-9700 and state that you are with the BMW CCA Tidewater Chapter. \nSpecial note: The hotel holds us to guarantees so please RSVP and prepay as soon as possible.\nIf you have questions call Judy Semo 757-456-9923 or email events@tidewaterbmwcca.org. \n  \nRSVP Now
URL:https://www.twbmwcca.org/upcoming/annual-banquet-2020/
LOCATION:Hampton Marina Hotel\, 700 Settlers Landing Road\, Hampton\, VA\, United States
CATEGORIES:Social
ATTACH;FMTTYPE=image/jpeg:https://www.twbmwcca.org/wp-content/uploads/2019/09/wineAndCheese.jpg
END:VEVENT
BEGIN:VEVENT
DTSTART;TZID=UTC:20200118T090000
DTEND;TZID=UTC:20200118T103000
DTSTAMP:20260423T210248
CREATED:20191007T003152Z
LAST-MODIFIED:20200112T005224Z
UID:28188-1579338000-1579343400@www.twbmwcca.org
SUMMARY:Bimmer B'fast- Chesapeake
DESCRIPTION:Sat\, Jan 18th\, 2020 – 9am – 10:30am \nWhere: Metro Diner\, 1124 Volvo Pkwy\, Chesapeake\, VA  23320 — NEW LOCATION \nNew Year — New Location!! \nCome show your car and talk car-talk with Bimmer friends old and new\, all with great breakfast food at METRO DINER in Chesapeake.\nWake up with the Club to some hot breakfast and lots of BMW talk. \n \nRSVP to Motorsportreg.com  \nQuestions? Contact Shawn Halsey at president@tidewaterbmwcca.org
URL:https://www.twbmwcca.org/upcoming/bimmer-bfast-chesapeakejan/
LOCATION:Metro Diner\, 1124 Volvo Pkwy\, Chesapeake\, VA\, 23320\, United States
CATEGORIES:Social
ATTACH;FMTTYPE=image/png:https://www.twbmwcca.org/wp-content/uploads/2019/12/PancakeStack-e1578773004697.png
END:VEVENT
END:VCALENDAR