BEGIN:VCALENDAR
VERSION:2.0
PRODID:-//Tidewater BMW Car Club - ECPv6.15.20//NONSGML v1.0//EN
CALSCALE:GREGORIAN
METHOD:PUBLISH
X-WR-CALNAME:Tidewater BMW Car Club
X-ORIGINAL-URL:https://www.twbmwcca.org
X-WR-CALDESC:Events for Tidewater BMW Car Club
REFRESH-INTERVAL;VALUE=DURATION:PT1H
X-Robots-Tag:noindex
X-PUBLISHED-TTL:PT1H
BEGIN:VTIMEZONE
TZID:UTC
BEGIN:STANDARD
TZOFFSETFROM:+0000
TZOFFSETTO:+0000
TZNAME:UTC
DTSTART:20180101T000000
END:STANDARD
END:VTIMEZONE
BEGIN:VEVENT
DTSTART;TZID=UTC:20211024T100000
DTEND;TZID=UTC:20211024T133000
DTSTAMP:20260423T193522
CREATED:20190925T010051Z
LAST-MODIFIED:20211022T231326Z
UID:241320-1635069600-1635082200@www.twbmwcca.org
SUMMARY:Annual Great Pumpkin Fun Run
DESCRIPTION:Come on out on Sunday\, Oct 24th\, and enjoy great drive around Suffolk and test your knowledge and navigation skills by answering questions while enjoying the scenery and following along the rally route. Bring a navigator\, but if you can’t find one no problem – just contact us and we will pair up folks as needed. \nWin prizes for most questions answered and fewest miles driven. Rally starts and ends near downtown Suffolk\, and meanders through the country roads in and around Suffolk. \nMeet on October 24th at 10 am at Panera Bread\, 1217 N. Main St\, Suffolk\, VA (757) 538-0570). Rally ends with lunch at the Plaid Turnip restaurant (110 Finney Ave\, Suffolk\, VA 23434). \nPlease be sure to have a navigator as someone other than driver needs to read clues and record answer \nFor more information: events@tidewaterbmwcca.org or Steve Waddell\, (757) 539-1305\, classics@tidewaterbmwcca.org
URL:https://www.twbmwcca.org/upcoming/funrun2021/
LOCATION:Panera Bread\, 1217 N. Main St\, Suffolk\, VA\, United States
CATEGORIES:Drive n Dine,Rally
ATTACH;FMTTYPE=image/jpeg:https://www.twbmwcca.org/wp-content/uploads/2019/09/Pumpkin-Drive.jpg
END:VEVENT
BEGIN:VEVENT
DTSTART;TZID=UTC:20191027T100000
DTEND;TZID=UTC:20191027T133000
DTSTAMP:20260423T193522
CREATED:20190925T010051Z
LAST-MODIFIED:20191015T034937Z
UID:27680-1572170400-1572183000@www.twbmwcca.org
SUMMARY:Annual Great Pumpkin Fun Run
DESCRIPTION:Come on out and enjoy great drive around Suffolk and test your knowledge and navigation skills by answering questions while enjoying the scenery and following along the rally route. Bring a navigator\, but if you can’t find one no problem – just contact us and we will pair up folks as needed.\nWin prizes for most questions answered and fewest miles driven. Rally starts and ends near downtown Suffolk\, and meanders through the country roads in and around Suffolk.\nMeet at 10 am at Panera Bread\, 1217 N. Main St\, Suffolk\, VA (757) 538-0570). Rally ends with lunch at Amici’s Restaurant\, NY brick oven pizza and Italian in downtown Suffolk\, 157 E. Washington St\, (757-923-5300).\nFor more information: events@tidewaterbmwcca.org or Steve Waddell\, (757) 539-1305\, classics@tidewaterbmwcca.org\nRSVP at motorsportreg.com
URL:https://www.twbmwcca.org/upcoming/funrun2019/
LOCATION:Panera Bread\, 1217 N. Main St\, Suffolk\, VA\, United States
CATEGORIES:Drive n Dine,Rally
ATTACH;FMTTYPE=image/jpeg:https://www.twbmwcca.org/wp-content/uploads/2019/09/Pumpkin-Drive.jpg
END:VEVENT
END:VCALENDAR