BEGIN:VCALENDAR
VERSION:2.0
PRODID:-//Tidewater BMW Car Club - ECPv6.15.20//NONSGML v1.0//EN
CALSCALE:GREGORIAN
METHOD:PUBLISH
X-ORIGINAL-URL:https://www.twbmwcca.org
X-WR-CALDESC:Events for Tidewater BMW Car Club
REFRESH-INTERVAL;VALUE=DURATION:PT1H
X-Robots-Tag:noindex
X-PUBLISHED-TTL:PT1H
BEGIN:VTIMEZONE
TZID:America/New_York
BEGIN:DAYLIGHT
TZOFFSETFROM:-0500
TZOFFSETTO:-0400
TZNAME:EDT
DTSTART:20210314T070000
END:DAYLIGHT
BEGIN:STANDARD
TZOFFSETFROM:-0400
TZOFFSETTO:-0500
TZNAME:EST
DTSTART:20211107T060000
END:STANDARD
BEGIN:DAYLIGHT
TZOFFSETFROM:-0500
TZOFFSETTO:-0400
TZNAME:EDT
DTSTART:20220313T070000
END:DAYLIGHT
BEGIN:STANDARD
TZOFFSETFROM:-0400
TZOFFSETTO:-0500
TZNAME:EST
DTSTART:20221106T060000
END:STANDARD
BEGIN:DAYLIGHT
TZOFFSETFROM:-0500
TZOFFSETTO:-0400
TZNAME:EDT
DTSTART:20230312T070000
END:DAYLIGHT
BEGIN:STANDARD
TZOFFSETFROM:-0400
TZOFFSETTO:-0500
TZNAME:EST
DTSTART:20231105T060000
END:STANDARD
BEGIN:DAYLIGHT
TZOFFSETFROM:-0500
TZOFFSETTO:-0400
TZNAME:EDT
DTSTART:20240310T070000
END:DAYLIGHT
BEGIN:STANDARD
TZOFFSETFROM:-0400
TZOFFSETTO:-0500
TZNAME:EST
DTSTART:20241103T060000
END:STANDARD
BEGIN:DAYLIGHT
TZOFFSETFROM:-0500
TZOFFSETTO:-0400
TZNAME:EDT
DTSTART:20250309T070000
END:DAYLIGHT
BEGIN:STANDARD
TZOFFSETFROM:-0400
TZOFFSETTO:-0500
TZNAME:EST
DTSTART:20251102T060000
END:STANDARD
BEGIN:DAYLIGHT
TZOFFSETFROM:-0500
TZOFFSETTO:-0400
TZNAME:EDT
DTSTART:20260308T070000
END:DAYLIGHT
BEGIN:STANDARD
TZOFFSETFROM:-0400
TZOFFSETTO:-0500
TZNAME:EST
DTSTART:20261101T060000
END:STANDARD
END:VTIMEZONE
BEGIN:VTIMEZONE
TZID:UTC
BEGIN:STANDARD
TZOFFSETFROM:+0000
TZOFFSETTO:+0000
TZNAME:UTC
DTSTART:20220101T000000
END:STANDARD
END:VTIMEZONE
BEGIN:VEVENT
DTSTART;TZID=America/New_York:20250816T080000
DTEND;TZID=America/New_York:20250816T093000
DTSTAMP:20260423T180843
CREATED:20250807T153539Z
LAST-MODIFIED:20250807T161802Z
UID:250921-1755331200-1755336600@www.twbmwcca.org
SUMMARY:August Bimmer Breakfast
DESCRIPTION:Early Birds-this is for you\nSaturday\, Aug. 16th\, 2025\n8:00 am\nBreakfast starts at 08:00 am (yup\, that’s early) with Car talk during and to follow afterwards with Club members.\nJoin us at Pop’s Diner – one of our old favorites – 1432 Greenbrier Pkwy in Chesapeake\, VA. We usually park side by side in the rear area\, the better to admire our chariots.\nRSVP \n 
URL:https://www.twbmwcca.org/upcoming/august-bimmer-breakfast-2/
LOCATION:Pop’s Diner – Chesapeake\, VA\, 1432 Greenbrier Parkway\, Chesapeake\, VA\, United States
CATEGORIES:Club Business,Social
ATTACH;FMTTYPE=image/jpeg:https://www.twbmwcca.org/wp-content/uploads/2019/09/PopsDiner.jpg
END:VEVENT
BEGIN:VEVENT
DTSTART;TZID=America/New_York:20230715T173000
DTEND;TZID=America/New_York:20230715T200000
DTSTAMP:20260423T180843
CREATED:20230711T170236Z
LAST-MODIFIED:20230711T170236Z
UID:249813-1689442200-1689451200@www.twbmwcca.org
SUMMARY:Bimmer Dinner
DESCRIPTION:Coming UP This Saturday\n5:30 pm – 8:00 pm \nBimmer Dinner Meeting\nSaturday\, July 15th \nCantina Laredo\n4505 Commerce street (Town Center)\, Virginia Beach\nMeet you at 5:30\nWelcome new members\, catch up with old ones. \n  \nRSVP
URL:https://www.twbmwcca.org/upcoming/bimmer-dinner/
LOCATION:Cantina Laredo\, 4505 Commerce St\, Virginia Beach\, VA\, United States
CATEGORIES:Club Business,Social
ATTACH;FMTTYPE=image/jpeg:https://www.twbmwcca.org/wp-content/uploads/2023/07/cantino-e1689092204979.jpg
END:VEVENT
BEGIN:VEVENT
DTSTART;TZID=UTC:20230520T090000
DTEND;TZID=UTC:20230520T103000
DTSTAMP:20260423T180843
CREATED:20201204T021616Z
LAST-MODIFIED:20230427T155649Z
UID:248505-1684573200-1684578600@www.twbmwcca.org
SUMMARY:May Bimmer Breakfast
DESCRIPTION:Saturday\, May 20th  9 am – 10:30 am\nNEW LOCATION!!\nThis month we are at Mary’s Kitchen – A Local Favorite Spot\n616 Virginia Beach Blvd (Just 6 blocks from the oceanfront)\, Virginia Beach\, VA 23451.\nMary’s has a large parking lot on both sides of their building. We will be parking on the left side\, third section from the street. \nMary’s Kitchen menus \nEvery third Saturday of the month we meet to break bread and welcome new members. Of course\, most of the conversation is about our beloved BMWs\, but we enjoy getting to know new people and keeping in touch with old friends. Come join us. Show off your pride and joy! \nGreat food and great conversation.\n\n\n\n\n\n\nPLEASE BRING SOME NON-PERISHABLE FOOD PRODUCTS FOR OUR DONATION TO THE FOODBANK OF SOUTHEASTERN VIRGINIA \n\n\n\n\n\n\n\n 
URL:https://www.twbmwcca.org/upcoming/may2023bimmerbfast/
LOCATION:Mary’s Kitchen\, 616 Virginia Beach Blvd\, Virginia Beach\, VA\, 23451\, United States
CATEGORIES:Club Business,Social
ATTACH;FMTTYPE=image/jpeg:https://www.twbmwcca.org/wp-content/uploads/2023/04/MarysKitchen.jpg
END:VEVENT
BEGIN:VEVENT
DTSTART;TZID=America/New_York:20221201T080000
DTEND;TZID=America/New_York:20221215T233000
DTSTAMP:20260423T180843
CREATED:20221128T195528Z
LAST-MODIFIED:20221129T163758Z
UID:249246-1669881600-1671147000@www.twbmwcca.org
SUMMARY:Voting for 2023 Chapter Officers
DESCRIPTION:Voting Open for Chapter Officers – Do It Now!\nVotes will be accepted between Dec. 1 and Dec. 15\, 2022 \n\nElections for the Vice-President and the Treasurer of the Tidewater Chapter are open and we need your help to continue our chapter’s path to excellence (President and Secretary are elected in 2024).  Nominations for both positions were asked for and received in October 2022\nThere was one nomination for Vice-President and none received for Treasurer. \nAccording to our By-Laws\, an election must be held regardless of the number of candidates – so\, please vote using the form on this page. Write -ins are encouraged.  You may also write-in yourself.\nThe form automatically emails your vote to the Board of Directors for tabulation. \n****Link to Position descriptions **** \n\n\n					All current members and associate members in good standing are eligible to vote. \nIf you can’t use the form\, then PRINT THIS PAGE AND SEND BY MAIL\, OR SEND AN EMAIL to the Secretary WITH THE SAME INFORMATION and return to: \nTidewater BMW CCA – Election Committee\nP.O. Box 62145\nVirginia Beach\, VA 23462-2145 \n				\n\n					Vote
URL:https://www.twbmwcca.org/upcoming/voting-for-2023-chapter-officers/
LOCATION:On-Line
CATEGORIES:Club Business
ATTACH;FMTTYPE=image/jpeg:https://www.twbmwcca.org/wp-content/uploads/2022/02/checkmark.jpeg
END:VEVENT
END:VCALENDAR